BEGIN:VCALENDAR
VERSION:2.0
PRODID:-//Painesville Church of the Nazarene - ECPv6.11.0.1//NONSGML v1.0//EN
CALSCALE:GREGORIAN
METHOD:PUBLISH
X-WR-CALNAME:Painesville Church of the Nazarene
X-ORIGINAL-URL:https://painesvillenaz.org
X-WR-CALDESC:Events for Painesville Church of the Nazarene
REFRESH-INTERVAL;VALUE=DURATION:PT1H
X-Robots-Tag:noindex
X-PUBLISHED-TTL:PT1H
BEGIN:VTIMEZONE
TZID:America/New_York
BEGIN:DAYLIGHT
TZOFFSETFROM:-0500
TZOFFSETTO:-0400
TZNAME:EDT
DTSTART:20240310T070000
END:DAYLIGHT
BEGIN:STANDARD
TZOFFSETFROM:-0400
TZOFFSETTO:-0500
TZNAME:EST
DTSTART:20241103T060000
END:STANDARD
END:VTIMEZONE
BEGIN:VEVENT
DTSTART;TZID=America/New_York:20240403T190000
DTEND;TZID=America/New_York:20240403T200000
DTSTAMP:20260422T000949
CREATED:20240206T152115Z
LAST-MODIFIED:20240306T164043Z
UID:10000979-1712170800-1712174400@painesvillenaz.org
SUMMARY:Prayer Meeting
DESCRIPTION:
URL:https://painesvillenaz.org/event/prayer-meeting-31/2024-04-03/
LOCATION:PCN-Library\, 6235 Chestnut Street\, Painesville\, Ohio\, 44077
ATTACH;FMTTYPE=image/jpeg:https://painesvillenaz.org/wp-content/uploads/2019/06/rosie-fraser-592594-unsplash-1.jpg
END:VEVENT
BEGIN:VEVENT
DTSTART;TZID=America/New_York:20240407T104500
DTEND;TZID=America/New_York:20240407T120000
DTSTAMP:20260422T000949
CREATED:20240306T164606Z
LAST-MODIFIED:20240306T164606Z
UID:10001022-1712486700-1712491200@painesvillenaz.org
SUMMARY:Worship Service
DESCRIPTION:
URL:https://painesvillenaz.org/event/worship-service-18/2024-04-07/
LOCATION:PCN-Worship Center\, 6235 Chestnut Street\, Painesville\, 44077\, United States
ATTACH;FMTTYPE=image/jpeg:https://painesvillenaz.org/wp-content/uploads/2019/08/william-white-TZCppMjaOHU-unsplash-3.jpg
END:VEVENT
BEGIN:VEVENT
DTSTART;TZID=America/New_York:20240410T190000
DTEND;TZID=America/New_York:20240410T200000
DTSTAMP:20260422T000949
CREATED:20240206T152115Z
LAST-MODIFIED:20240306T164043Z
UID:10000980-1712775600-1712779200@painesvillenaz.org
SUMMARY:Prayer Meeting
DESCRIPTION:
URL:https://painesvillenaz.org/event/prayer-meeting-31/2024-04-10/
LOCATION:PCN-Library\, 6235 Chestnut Street\, Painesville\, Ohio\, 44077
ATTACH;FMTTYPE=image/jpeg:https://painesvillenaz.org/wp-content/uploads/2019/06/rosie-fraser-592594-unsplash-1.jpg
END:VEVENT
BEGIN:VEVENT
DTSTART;TZID=America/New_York:20240414T104500
DTEND;TZID=America/New_York:20240414T120000
DTSTAMP:20260422T000949
CREATED:20240306T164606Z
LAST-MODIFIED:20240306T164606Z
UID:10001023-1713091500-1713096000@painesvillenaz.org
SUMMARY:Worship Service
DESCRIPTION:
URL:https://painesvillenaz.org/event/worship-service-18/2024-04-14/
LOCATION:PCN-Worship Center\, 6235 Chestnut Street\, Painesville\, 44077\, United States
ATTACH;FMTTYPE=image/jpeg:https://painesvillenaz.org/wp-content/uploads/2019/08/william-white-TZCppMjaOHU-unsplash-3.jpg
END:VEVENT
BEGIN:VEVENT
DTSTART;TZID=America/New_York:20240417T190000
DTEND;TZID=America/New_York:20240417T200000
DTSTAMP:20260422T000949
CREATED:20240206T152115Z
LAST-MODIFIED:20240306T164043Z
UID:10000981-1713380400-1713384000@painesvillenaz.org
SUMMARY:Prayer Meeting
DESCRIPTION:
URL:https://painesvillenaz.org/event/prayer-meeting-31/2024-04-17/
LOCATION:PCN-Library\, 6235 Chestnut Street\, Painesville\, Ohio\, 44077
ATTACH;FMTTYPE=image/jpeg:https://painesvillenaz.org/wp-content/uploads/2019/06/rosie-fraser-592594-unsplash-1.jpg
END:VEVENT
BEGIN:VEVENT
DTSTART;TZID=America/New_York:20240421T104500
DTEND;TZID=America/New_York:20240421T120000
DTSTAMP:20260422T000949
CREATED:20240306T164606Z
LAST-MODIFIED:20240306T164606Z
UID:10001024-1713696300-1713700800@painesvillenaz.org
SUMMARY:Worship Service
DESCRIPTION:
URL:https://painesvillenaz.org/event/worship-service-18/2024-04-21/
LOCATION:PCN-Worship Center\, 6235 Chestnut Street\, Painesville\, 44077\, United States
ATTACH;FMTTYPE=image/jpeg:https://painesvillenaz.org/wp-content/uploads/2019/08/william-white-TZCppMjaOHU-unsplash-3.jpg
END:VEVENT
BEGIN:VEVENT
DTSTART;TZID=America/New_York:20240424T190000
DTEND;TZID=America/New_York:20240424T200000
DTSTAMP:20260422T000949
CREATED:20240206T152115Z
LAST-MODIFIED:20240306T164043Z
UID:10000982-1713985200-1713988800@painesvillenaz.org
SUMMARY:Prayer Meeting
DESCRIPTION:
URL:https://painesvillenaz.org/event/prayer-meeting-31/2024-04-24/
LOCATION:PCN-Library\, 6235 Chestnut Street\, Painesville\, Ohio\, 44077
ATTACH;FMTTYPE=image/jpeg:https://painesvillenaz.org/wp-content/uploads/2019/06/rosie-fraser-592594-unsplash-1.jpg
END:VEVENT
BEGIN:VEVENT
DTSTART;TZID=America/New_York:20240428T104500
DTEND;TZID=America/New_York:20240428T120000
DTSTAMP:20260422T000949
CREATED:20240306T164606Z
LAST-MODIFIED:20240306T164606Z
UID:10001025-1714301100-1714305600@painesvillenaz.org
SUMMARY:Worship Service
DESCRIPTION:
URL:https://painesvillenaz.org/event/worship-service-18/2024-04-28/
LOCATION:PCN-Worship Center\, 6235 Chestnut Street\, Painesville\, 44077\, United States
ATTACH;FMTTYPE=image/jpeg:https://painesvillenaz.org/wp-content/uploads/2019/08/william-white-TZCppMjaOHU-unsplash-3.jpg
END:VEVENT
END:VCALENDAR