BEGIN:VCALENDAR
VERSION:2.0
PRODID:-//Painesville Church of the Nazarene - ECPv6.11.0.1//NONSGML v1.0//EN
CALSCALE:GREGORIAN
METHOD:PUBLISH
X-ORIGINAL-URL:https://painesvillenaz.org
X-WR-CALDESC:Events for Painesville Church of the Nazarene
REFRESH-INTERVAL;VALUE=DURATION:PT1H
X-Robots-Tag:noindex
X-PUBLISHED-TTL:PT1H
BEGIN:VTIMEZONE
TZID:America/New_York
BEGIN:DAYLIGHT
TZOFFSETFROM:-0500
TZOFFSETTO:-0400
TZNAME:EDT
DTSTART:20240310T070000
END:DAYLIGHT
BEGIN:STANDARD
TZOFFSETFROM:-0400
TZOFFSETTO:-0500
TZNAME:EST
DTSTART:20241103T060000
END:STANDARD
END:VTIMEZONE
BEGIN:VEVENT
DTSTART;TZID=America/New_York:20240110T180000
DTEND;TZID=America/New_York:20240110T190000
DTSTAMP:20260422T071911
CREATED:20240110T155304Z
LAST-MODIFIED:20240110T155304Z
UID:10000950-1704909600-1704913200@painesvillenaz.org
SUMMARY:Zumba for Women
DESCRIPTION:
URL:https://painesvillenaz.org/event/zumba-for-women/
LOCATION:Painesville Church of the Nazarene\, 6235 Chestnut St.\, Painesville\, OH\, 44077\, United States
END:VEVENT
BEGIN:VEVENT
DTSTART;TZID=America/New_York:20240110T190000
DTEND;TZID=America/New_York:20240110T200000
DTSTAMP:20260422T071911
CREATED:20240110T155729Z
LAST-MODIFIED:20240110T155729Z
UID:10000951-1704913200-1704916800@painesvillenaz.org
SUMMARY:Prayer Meeting
DESCRIPTION:
URL:https://painesvillenaz.org/event/prayer-meeting-24/
END:VEVENT
BEGIN:VEVENT
DTSTART;TZID=America/New_York:20240113T100000
DTEND;TZID=America/New_York:20240113T113000
DTSTAMP:20260422T071911
CREATED:20240110T160019Z
LAST-MODIFIED:20240110T160019Z
UID:10000952-1705140000-1705145400@painesvillenaz.org
SUMMARY:No Food Pantry
DESCRIPTION:
URL:https://painesvillenaz.org/event/no-food-pantry/
END:VEVENT
BEGIN:VEVENT
DTSTART;TZID=America/New_York:20240114T104500
DTEND;TZID=America/New_York:20240114T120000
DTSTAMP:20260422T071911
CREATED:20240110T160310Z
LAST-MODIFIED:20240110T160310Z
UID:10000953-1705229100-1705233600@painesvillenaz.org
SUMMARY:Worship Service
DESCRIPTION:
URL:https://painesvillenaz.org/event/worship-service-12/
END:VEVENT
BEGIN:VEVENT
DTSTART;TZID=America/New_York:20240114T173000
DTEND;TZID=America/New_York:20240114T200000
DTSTAMP:20260422T071911
CREATED:20240110T160420Z
LAST-MODIFIED:20240110T160420Z
UID:10000954-1705253400-1705262400@painesvillenaz.org
SUMMARY:Catalyst
DESCRIPTION:
URL:https://painesvillenaz.org/event/catalyst-10/
LOCATION:Painesville Church of the Nazarene\, 6235 Chestnut St.\, Painesville\, OH\, 44077
END:VEVENT
BEGIN:VEVENT
DTSTART;TZID=America/New_York:20240117T190000
DTEND;TZID=America/New_York:20240117T200000
DTSTAMP:20260422T071911
CREATED:20240110T160554Z
LAST-MODIFIED:20240110T160554Z
UID:10000955-1705518000-1705521600@painesvillenaz.org
SUMMARY:Prayer Meeting
DESCRIPTION:
URL:https://painesvillenaz.org/event/prayer-meeting-25/
END:VEVENT
BEGIN:VEVENT
DTSTART;TZID=America/New_York:20240120T100000
DTEND;TZID=America/New_York:20240120T113000
DTSTAMP:20260422T071911
CREATED:20240110T160711Z
LAST-MODIFIED:20240110T160711Z
UID:10000956-1705744800-1705750200@painesvillenaz.org
SUMMARY:Food Pantry
DESCRIPTION:
URL:https://painesvillenaz.org/event/food-pantry-24/
END:VEVENT
BEGIN:VEVENT
DTSTART;TZID=America/New_York:20240121T100000
DTEND;TZID=America/New_York:20240121T113000
DTSTAMP:20260422T071911
CREATED:20240110T160822Z
LAST-MODIFIED:20240110T160822Z
UID:10000957-1705831200-1705836600@painesvillenaz.org
SUMMARY:Worship Service
DESCRIPTION:
URL:https://painesvillenaz.org/event/worship-service-13/
END:VEVENT
BEGIN:VEVENT
DTSTART;TZID=America/New_York:20240121T173000
DTEND;TZID=America/New_York:20240121T200000
DTSTAMP:20260422T071911
CREATED:20240110T160911Z
LAST-MODIFIED:20240110T160911Z
UID:10000958-1705858200-1705867200@painesvillenaz.org
SUMMARY:Catalyst
DESCRIPTION:
URL:https://painesvillenaz.org/event/catalyst-11/
END:VEVENT
BEGIN:VEVENT
DTSTART;TZID=America/New_York:20240124T190000
DTEND;TZID=America/New_York:20240124T200000
DTSTAMP:20260422T071911
CREATED:20240110T161124Z
LAST-MODIFIED:20240110T161124Z
UID:10000959-1706122800-1706126400@painesvillenaz.org
SUMMARY:Prayer Meeting
DESCRIPTION:
URL:https://painesvillenaz.org/event/prayer-meeting-26/
END:VEVENT
BEGIN:VEVENT
DTSTART;TZID=America/New_York:20240127T100000
DTEND;TZID=America/New_York:20240127T103000
DTSTAMP:20260422T071911
CREATED:20240110T161209Z
LAST-MODIFIED:20240110T161209Z
UID:10000960-1706349600-1706351400@painesvillenaz.org
SUMMARY:Food Pantry
DESCRIPTION:
URL:https://painesvillenaz.org/event/food-pantry-25/
END:VEVENT
BEGIN:VEVENT
DTSTART;TZID=America/New_York:20240128T104500
DTEND;TZID=America/New_York:20240128T120000
DTSTAMP:20260422T071911
CREATED:20240110T161310Z
LAST-MODIFIED:20240110T161310Z
UID:10000961-1706438700-1706443200@painesvillenaz.org
SUMMARY:Worship Service
DESCRIPTION:
URL:https://painesvillenaz.org/event/worship-service-14/
END:VEVENT
BEGIN:VEVENT
DTSTART;TZID=America/New_York:20240128T173000
DTEND;TZID=America/New_York:20240128T200000
DTSTAMP:20260422T071911
CREATED:20240110T161356Z
LAST-MODIFIED:20240110T161356Z
UID:10000962-1706463000-1706472000@painesvillenaz.org
SUMMARY:Catalyst
DESCRIPTION:
URL:https://painesvillenaz.org/event/catalyst-12/
END:VEVENT
BEGIN:VEVENT
DTSTART;TZID=America/New_York:20240131T190000
DTEND;TZID=America/New_York:20240131T200000
DTSTAMP:20260422T071911
CREATED:20240110T161512Z
LAST-MODIFIED:20240110T161512Z
UID:10000963-1706727600-1706731200@painesvillenaz.org
SUMMARY:Prayer Meeting
DESCRIPTION:
URL:https://painesvillenaz.org/event/prayer-meeting-27/
END:VEVENT
END:VCALENDAR