BEGIN:VCALENDAR
VERSION:2.0
PRODID:-//Painesville Church of the Nazarene - ECPv6.11.0.1//NONSGML v1.0//EN
CALSCALE:GREGORIAN
METHOD:PUBLISH
X-ORIGINAL-URL:https://painesvillenaz.org
X-WR-CALDESC:Events for Painesville Church of the Nazarene
REFRESH-INTERVAL;VALUE=DURATION:PT1H
X-Robots-Tag:noindex
X-PUBLISHED-TTL:PT1H
BEGIN:VTIMEZONE
TZID:America/New_York
BEGIN:DAYLIGHT
TZOFFSETFROM:-0500
TZOFFSETTO:-0400
TZNAME:EDT
DTSTART:20230312T070000
END:DAYLIGHT
BEGIN:STANDARD
TZOFFSETFROM:-0400
TZOFFSETTO:-0500
TZNAME:EST
DTSTART:20231105T060000
END:STANDARD
END:VTIMEZONE
BEGIN:VEVENT
DTSTART;TZID=America/New_York:20230708T100000
DTEND;TZID=America/New_York:20230708T113000
DTSTAMP:20260422T184400
CREATED:20230707T125527Z
LAST-MODIFIED:20230707T125527Z
UID:10000558-1688810400-1688815800@painesvillenaz.org
SUMMARY:Food Pantry
DESCRIPTION:
URL:https://painesvillenaz.org/event/food-pantry-17/
ATTACH;FMTTYPE=image/jpeg:https://painesvillenaz.org/wp-content/uploads/2022/04/aaron-doucett-WZCf6aiK8Jo-unsplash-scaled.jpg
END:VEVENT
BEGIN:VEVENT
DTSTART;TZID=America/New_York:20230709T104500
DTEND;TZID=America/New_York:20230709T120000
DTSTAMP:20260422T184400
CREATED:20230707T130352Z
LAST-MODIFIED:20230707T130352Z
UID:10000559-1688899500-1688904000@painesvillenaz.org
SUMMARY:Worship Service
DESCRIPTION:
URL:https://painesvillenaz.org/event/worship-service-6/
ATTACH;FMTTYPE=image/jpeg:https://painesvillenaz.org/wp-content/uploads/2019/05/DefaultFeaturedImage.jpg
END:VEVENT
BEGIN:VEVENT
DTSTART;TZID=America/New_York:20230712T190000
DTEND;TZID=America/New_York:20230712T200000
DTSTAMP:20260422T184400
CREATED:20230707T130606Z
LAST-MODIFIED:20230707T130606Z
UID:10000560-1689188400-1689192000@painesvillenaz.org
SUMMARY:Prayer Meeting
DESCRIPTION:
URL:https://painesvillenaz.org/event/prayer-meeting-18/
ATTACH;FMTTYPE=image/jpeg:https://painesvillenaz.org/wp-content/uploads/2019/06/patrick-fore-26857-unsplash.jpg
END:VEVENT
BEGIN:VEVENT
DTSTART;TZID=America/New_York:20230715T100000
DTEND;TZID=America/New_York:20230715T113000
DTSTAMP:20260422T184400
CREATED:20230707T130837Z
LAST-MODIFIED:20230707T130837Z
UID:10000935-1689415200-1689420600@painesvillenaz.org
SUMMARY:Food Pantry
DESCRIPTION:
URL:https://painesvillenaz.org/event/food-pantry-18/
ATTACH;FMTTYPE=image/jpeg:https://painesvillenaz.org/wp-content/uploads/2022/04/aaron-doucett-WZCf6aiK8Jo-unsplash-scaled.jpg
END:VEVENT
BEGIN:VEVENT
DTSTART;TZID=America/New_York:20230716T094500
DTEND;TZID=America/New_York:20230716T120000
DTSTAMP:20260422T184400
CREATED:20230707T131047Z
LAST-MODIFIED:20230707T131047Z
UID:10000936-1689500700-1689508800@painesvillenaz.org
SUMMARY:Worship Service
DESCRIPTION:
URL:https://painesvillenaz.org/event/worship-service-7/
ATTACH;FMTTYPE=image/jpeg:https://painesvillenaz.org/wp-content/uploads/2019/05/DefaultFeaturedImage.jpg
END:VEVENT
BEGIN:VEVENT
DTSTART;TZID=America/New_York:20230719T190000
DTEND;TZID=America/New_York:20230719T200000
DTSTAMP:20260422T184400
CREATED:20230707T131242Z
LAST-MODIFIED:20230707T131242Z
UID:10000937-1689793200-1689796800@painesvillenaz.org
SUMMARY:Prayer Meeting
DESCRIPTION:
URL:https://painesvillenaz.org/event/prayer-meeting-19/
ATTACH;FMTTYPE=image/jpeg:https://painesvillenaz.org/wp-content/uploads/2019/06/patrick-fore-26857-unsplash.jpg
END:VEVENT
BEGIN:VEVENT
DTSTART;TZID=America/New_York:20230722T100000
DTEND;TZID=America/New_York:20230722T113000
DTSTAMP:20260422T184400
CREATED:20230707T131334Z
LAST-MODIFIED:20230707T131334Z
UID:10000938-1690020000-1690025400@painesvillenaz.org
SUMMARY:Food Pantry
DESCRIPTION:
URL:https://painesvillenaz.org/event/food-pantry-19/
ATTACH;FMTTYPE=image/jpeg:https://painesvillenaz.org/wp-content/uploads/2022/04/aaron-doucett-WZCf6aiK8Jo-unsplash-scaled.jpg
END:VEVENT
BEGIN:VEVENT
DTSTART;TZID=America/New_York:20230723T104500
DTEND;TZID=America/New_York:20230723T120000
DTSTAMP:20260422T184400
CREATED:20230707T131812Z
LAST-MODIFIED:20230707T131812Z
UID:10000939-1690109100-1690113600@painesvillenaz.org
SUMMARY:Worship Service
DESCRIPTION:
URL:https://painesvillenaz.org/event/worship-service-8/
ATTACH;FMTTYPE=image/jpeg:https://painesvillenaz.org/wp-content/uploads/2019/05/DefaultFeaturedImage.jpg
END:VEVENT
BEGIN:VEVENT
DTSTART;TZID=America/New_York:20230726T190000
DTEND;TZID=America/New_York:20230726T200000
DTSTAMP:20260422T184400
CREATED:20230707T132007Z
LAST-MODIFIED:20230707T132007Z
UID:10000940-1690398000-1690401600@painesvillenaz.org
SUMMARY:Prayer Meeting
DESCRIPTION:
URL:https://painesvillenaz.org/event/prayer-meeting-20/
ATTACH;FMTTYPE=image/jpeg:https://painesvillenaz.org/wp-content/uploads/2019/06/patrick-fore-26857-unsplash.jpg
END:VEVENT
BEGIN:VEVENT
DTSTART;TZID=America/New_York:20230729T100000
DTEND;TZID=America/New_York:20230729T113000
DTSTAMP:20260422T184400
CREATED:20230707T132604Z
LAST-MODIFIED:20230707T132604Z
UID:10000941-1690624800-1690630200@painesvillenaz.org
SUMMARY:Food Pantry
DESCRIPTION:
URL:https://painesvillenaz.org/event/food-pantry-20/
ATTACH;FMTTYPE=image/jpeg:https://painesvillenaz.org/wp-content/uploads/2022/04/aaron-doucett-WZCf6aiK8Jo-unsplash-scaled.jpg
END:VEVENT
BEGIN:VEVENT
DTSTART;TZID=America/New_York:20230730T104500
DTEND;TZID=America/New_York:20230730T120000
DTSTAMP:20260422T184400
CREATED:20230707T132758Z
LAST-MODIFIED:20230707T132758Z
UID:10000942-1690713900-1690718400@painesvillenaz.org
SUMMARY:Worship Service
DESCRIPTION:
URL:https://painesvillenaz.org/event/worship-service-9/
ATTACH;FMTTYPE=image/jpeg:https://painesvillenaz.org/wp-content/uploads/2019/05/DefaultFeaturedImage.jpg
END:VEVENT
END:VCALENDAR