BEGIN:VCALENDAR
VERSION:2.0
PRODID:-//Painesville Church of the Nazarene - ECPv6.11.0.1//NONSGML v1.0//EN
CALSCALE:GREGORIAN
METHOD:PUBLISH
X-WR-CALNAME:Painesville Church of the Nazarene
X-ORIGINAL-URL:https://painesvillenaz.org
X-WR-CALDESC:Events for Painesville Church of the Nazarene
REFRESH-INTERVAL;VALUE=DURATION:PT1H
X-Robots-Tag:noindex
X-PUBLISHED-TTL:PT1H
BEGIN:VTIMEZONE
TZID:America/New_York
BEGIN:DAYLIGHT
TZOFFSETFROM:-0500
TZOFFSETTO:-0400
TZNAME:EDT
DTSTART:20230312T070000
END:DAYLIGHT
BEGIN:STANDARD
TZOFFSETFROM:-0400
TZOFFSETTO:-0500
TZNAME:EST
DTSTART:20231105T060000
END:STANDARD
END:VTIMEZONE
BEGIN:VEVENT
DTSTART;TZID=America/New_York:20230603T083000
DTEND;TZID=America/New_York:20230603T093000
DTSTAMP:20260422T203510
CREATED:20230601T165142Z
LAST-MODIFIED:20230601T165142Z
UID:10000556-1685781000-1685784600@painesvillenaz.org
SUMMARY:Men's Breakfast
DESCRIPTION:
URL:https://painesvillenaz.org/event/mens-breakfast-3/
LOCATION:Perkins Restaurant\, 700 Mentor Ave.\, PAINESVILLE\, OH\, 44077\, United States
ATTACH;FMTTYPE=image/jpeg:https://painesvillenaz.org/wp-content/uploads/2022/04/luke-pennystan-09FcOqmi8R0-unsplash-scaled.jpg
END:VEVENT
BEGIN:VEVENT
DTSTART;TZID=America/New_York:20230603T100000
DTEND;TZID=America/New_York:20230603T233000
DTSTAMP:20260422T203510
CREATED:20230601T162536Z
LAST-MODIFIED:20230601T162625Z
UID:10000928-1685786400-1685835000@painesvillenaz.org
SUMMARY:Food Pantry
DESCRIPTION:
URL:https://painesvillenaz.org/event/food-pantry-13/
ATTACH;FMTTYPE=image/jpeg:https://painesvillenaz.org/wp-content/uploads/2022/04/aaron-doucett-WZCf6aiK8Jo-unsplash-scaled.jpg
END:VEVENT
BEGIN:VEVENT
DTSTART;TZID=America/New_York:20230604T104500
DTEND;TZID=America/New_York:20230604T120000
DTSTAMP:20260422T203510
CREATED:20230601T163114Z
LAST-MODIFIED:20230601T163114Z
UID:10000929-1685875500-1685880000@painesvillenaz.org
SUMMARY:Worship Service
DESCRIPTION:
URL:https://painesvillenaz.org/event/worship-service-2/
ATTACH;FMTTYPE=image/jpeg:https://painesvillenaz.org/wp-content/uploads/2019/05/DefaultFeaturedImage.jpg
END:VEVENT
BEGIN:VEVENT
DTSTART;TZID=America/New_York:20230607T190000
DTEND;TZID=America/New_York:20230607T200000
DTSTAMP:20260422T203510
CREATED:20230601T163328Z
LAST-MODIFIED:20230601T163328Z
UID:10000930-1686164400-1686168000@painesvillenaz.org
SUMMARY:Prayer Meeting
DESCRIPTION:
URL:https://painesvillenaz.org/event/prayer-meeting-14/
ATTACH;FMTTYPE=image/jpeg:https://painesvillenaz.org/wp-content/uploads/2019/06/patrick-fore-26857-unsplash.jpg
END:VEVENT
BEGIN:VEVENT
DTSTART;TZID=America/New_York:20230610T100000
DTEND;TZID=America/New_York:20230610T113000
DTSTAMP:20260422T203510
CREATED:20230601T163452Z
LAST-MODIFIED:20230601T163452Z
UID:10000931-1686391200-1686396600@painesvillenaz.org
SUMMARY:Food Pantry
DESCRIPTION:
URL:https://painesvillenaz.org/event/food-pantry-14/
ATTACH;FMTTYPE=image/jpeg:https://painesvillenaz.org/wp-content/uploads/2022/04/aaron-doucett-WZCf6aiK8Jo-unsplash-scaled.jpg
END:VEVENT
BEGIN:VEVENT
DTSTART;TZID=America/New_York:20230611T104500
DTEND;TZID=America/New_York:20230611T120000
DTSTAMP:20260422T203510
CREATED:20230601T163637Z
LAST-MODIFIED:20230601T163637Z
UID:10000932-1686480300-1686484800@painesvillenaz.org
SUMMARY:Worship Service
DESCRIPTION:
URL:https://painesvillenaz.org/event/worship-service-3/
ATTACH;FMTTYPE=image/jpeg:https://painesvillenaz.org/wp-content/uploads/2019/05/DefaultFeaturedImage.jpg
END:VEVENT
BEGIN:VEVENT
DTSTART;TZID=America/New_York:20230614T190000
DTEND;TZID=America/New_York:20230614T200000
DTSTAMP:20260422T203510
CREATED:20230601T163806Z
LAST-MODIFIED:20230601T163806Z
UID:10000933-1686769200-1686772800@painesvillenaz.org
SUMMARY:Prayer Meeting
DESCRIPTION:
URL:https://painesvillenaz.org/event/prayer-meeting-15/
ATTACH;FMTTYPE=image/jpeg:https://painesvillenaz.org/wp-content/uploads/2019/06/patrick-fore-26857-unsplash.jpg
END:VEVENT
BEGIN:VEVENT
DTSTART;TZID=America/New_York:20230617T100000
DTEND;TZID=America/New_York:20230617T113000
DTSTAMP:20260422T203510
CREATED:20230601T163851Z
LAST-MODIFIED:20230601T163851Z
UID:10000934-1686996000-1687001400@painesvillenaz.org
SUMMARY:Food Pantry
DESCRIPTION:
URL:https://painesvillenaz.org/event/food-pantry-15/
ATTACH;FMTTYPE=image/jpeg:https://painesvillenaz.org/wp-content/uploads/2022/04/aaron-doucett-WZCf6aiK8Jo-unsplash-scaled.jpg
END:VEVENT
BEGIN:VEVENT
DTSTART;TZID=America/New_York:20230618T104500
DTEND;TZID=America/New_York:20230618T120000
DTSTAMP:20260422T203510
CREATED:20230601T164110Z
LAST-MODIFIED:20230601T164110Z
UID:10000551-1687085100-1687089600@painesvillenaz.org
SUMMARY:Worship Service
DESCRIPTION:
URL:https://painesvillenaz.org/event/worship-service-4/
ATTACH;FMTTYPE=image/jpeg:https://painesvillenaz.org/wp-content/uploads/2019/05/DefaultFeaturedImage.jpg
END:VEVENT
BEGIN:VEVENT
DTSTART;TZID=America/New_York:20230621T190000
DTEND;TZID=America/New_York:20230621T200000
DTSTAMP:20260422T203510
CREATED:20230601T164245Z
LAST-MODIFIED:20230601T164245Z
UID:10000552-1687374000-1687377600@painesvillenaz.org
SUMMARY:Prayer Meeting
DESCRIPTION:
URL:https://painesvillenaz.org/event/prayer-meeting-16/
ATTACH;FMTTYPE=image/jpeg:https://painesvillenaz.org/wp-content/uploads/2019/06/patrick-fore-26857-unsplash.jpg
END:VEVENT
BEGIN:VEVENT
DTSTART;TZID=America/New_York:20230624T083000
DTEND;TZID=America/New_York:20230624T093000
DTSTAMP:20260422T203510
CREATED:20230601T165433Z
LAST-MODIFIED:20230601T165433Z
UID:10000557-1687595400-1687599000@painesvillenaz.org
SUMMARY:Women's Breakfast
DESCRIPTION:
URL:https://painesvillenaz.org/event/womens-breakfast-3/
ATTACH;FMTTYPE=image/jpeg:https://painesvillenaz.org/wp-content/uploads/2022/04/luke-pennystan-09FcOqmi8R0-unsplash-scaled.jpg
END:VEVENT
BEGIN:VEVENT
DTSTART;TZID=America/New_York:20230624T100000
DTEND;TZID=America/New_York:20230624T113000
DTSTAMP:20260422T203510
CREATED:20230601T164327Z
LAST-MODIFIED:20230601T164327Z
UID:10000553-1687600800-1687606200@painesvillenaz.org
SUMMARY:Food Pantry
DESCRIPTION:
URL:https://painesvillenaz.org/event/food-pantry-16/
ATTACH;FMTTYPE=image/jpeg:https://painesvillenaz.org/wp-content/uploads/2022/04/aaron-doucett-WZCf6aiK8Jo-unsplash-scaled.jpg
END:VEVENT
BEGIN:VEVENT
DTSTART;TZID=America/New_York:20230625T104500
DTEND;TZID=America/New_York:20230625T120000
DTSTAMP:20260422T203510
CREATED:20230601T164522Z
LAST-MODIFIED:20230601T164522Z
UID:10000554-1687689900-1687694400@painesvillenaz.org
SUMMARY:Worship Service
DESCRIPTION:
URL:https://painesvillenaz.org/event/worship-service-5/
ATTACH;FMTTYPE=image/jpeg:https://painesvillenaz.org/wp-content/uploads/2019/05/DefaultFeaturedImage.jpg
END:VEVENT
BEGIN:VEVENT
DTSTART;TZID=America/New_York:20230628T190000
DTEND;TZID=America/New_York:20230628T200000
DTSTAMP:20260422T203510
CREATED:20230601T164632Z
LAST-MODIFIED:20230601T164632Z
UID:10000555-1687978800-1687982400@painesvillenaz.org
SUMMARY:Prayer Meeting
DESCRIPTION:
URL:https://painesvillenaz.org/event/prayer-meeting-17/
ATTACH;FMTTYPE=image/jpeg:https://painesvillenaz.org/wp-content/uploads/2019/06/patrick-fore-26857-unsplash.jpg
END:VEVENT
END:VCALENDAR