BEGIN:VCALENDAR
VERSION:2.0
PRODID:-//Painesville Church of the Nazarene - ECPv6.11.0.1//NONSGML v1.0//EN
CALSCALE:GREGORIAN
METHOD:PUBLISH
X-WR-CALNAME:Painesville Church of the Nazarene
X-ORIGINAL-URL:https://painesvillenaz.org
X-WR-CALDESC:Events for Painesville Church of the Nazarene
REFRESH-INTERVAL;VALUE=DURATION:PT1H
X-Robots-Tag:noindex
X-PUBLISHED-TTL:PT1H
BEGIN:VTIMEZONE
TZID:America/New_York
BEGIN:DAYLIGHT
TZOFFSETFROM:-0500
TZOFFSETTO:-0400
TZNAME:EDT
DTSTART:20230312T070000
END:DAYLIGHT
BEGIN:STANDARD
TZOFFSETFROM:-0400
TZOFFSETTO:-0500
TZNAME:EST
DTSTART:20231105T060000
END:STANDARD
END:VTIMEZONE
BEGIN:VEVENT
DTSTART;TZID=America/New_York:20230406T190000
DTEND;TZID=America/New_York:20230406T200000
DTSTAMP:20260423T015851
CREATED:20230404T190658Z
LAST-MODIFIED:20230404T190658Z
UID:10000535-1680807600-1680811200@painesvillenaz.org
SUMMARY:Maundy Thursday Service
DESCRIPTION:
URL:https://painesvillenaz.org/event/maundy-thursday-service-3/
ATTACH;FMTTYPE=image/jpeg:https://painesvillenaz.org/wp-content/uploads/2022/04/morgan-winston-q8E0m78DVo4-unsplash-scaled.jpg
END:VEVENT
BEGIN:VEVENT
DTSTART;TZID=America/New_York:20230408T100000
DTEND;TZID=America/New_York:20230408T113000
DTSTAMP:20260423T015851
CREATED:20230404T185757Z
LAST-MODIFIED:20230404T185757Z
UID:10000532-1680948000-1680953400@painesvillenaz.org
SUMMARY:Food Pantry
DESCRIPTION:
URL:https://painesvillenaz.org/event/food-pantry-5/
ATTACH;FMTTYPE=image/jpeg:https://painesvillenaz.org/wp-content/uploads/2022/04/aaron-doucett-WZCf6aiK8Jo-unsplash-scaled.jpg
END:VEVENT
BEGIN:VEVENT
DTSTART;TZID=America/New_York:20230409T090000
DTEND;TZID=America/New_York:20230409T101500
DTSTAMP:20260423T015851
CREATED:20230404T185907Z
LAST-MODIFIED:20230404T185907Z
UID:10000533-1681030800-1681035300@painesvillenaz.org
SUMMARY:Easter Breakfast
DESCRIPTION:
URL:https://painesvillenaz.org/event/easter-breakfast/
ATTACH;FMTTYPE=image/jpeg:https://painesvillenaz.org/wp-content/uploads/2022/04/luke-pennystan-09FcOqmi8R0-unsplash-scaled.jpg
END:VEVENT
BEGIN:VEVENT
DTSTART;TZID=America/New_York:20230409T104500
DTEND;TZID=America/New_York:20230409T120000
DTSTAMP:20260423T015851
CREATED:20230404T190120Z
LAST-MODIFIED:20230404T190120Z
UID:10000534-1681037100-1681041600@painesvillenaz.org
SUMMARY:Easter Sunday Worship Service
DESCRIPTION:
URL:https://painesvillenaz.org/event/easter-sunday-worship-service/
ATTACH;FMTTYPE=image/jpeg:https://painesvillenaz.org/wp-content/uploads/2021/06/greg-rosenke-jBI220z-cU4-unsplash-2-scaled.jpg
END:VEVENT
BEGIN:VEVENT
DTSTART;TZID=America/New_York:20230411T183000
DTEND;TZID=America/New_York:20230411T193000
DTSTAMP:20260423T015851
CREATED:20230404T191536Z
LAST-MODIFIED:20230404T191536Z
UID:10000536-1681237800-1681241400@painesvillenaz.org
SUMMARY:Women's Bible Study
DESCRIPTION:
URL:https://painesvillenaz.org/event/womens-bible-study-5/
ATTACH;FMTTYPE=image/png:https://painesvillenaz.org/wp-content/uploads/2023/04/Brave-Beloved.png
END:VEVENT
BEGIN:VEVENT
DTSTART;TZID=America/New_York:20230412T190000
DTEND;TZID=America/New_York:20230412T200000
DTSTAMP:20260423T015851
CREATED:20230404T191757Z
LAST-MODIFIED:20230404T191757Z
UID:10000537-1681326000-1681329600@painesvillenaz.org
SUMMARY:Prayer Meeting
DESCRIPTION:
URL:https://painesvillenaz.org/event/prayer-meeting-6/
ATTACH;FMTTYPE=image/jpeg:https://painesvillenaz.org/wp-content/uploads/2019/06/aaron-burden-58729-unsplash.jpg
END:VEVENT
BEGIN:VEVENT
DTSTART;TZID=America/New_York:20230415T100000
DTEND;TZID=America/New_York:20230415T113000
DTSTAMP:20260423T015851
CREATED:20230404T191836Z
LAST-MODIFIED:20230404T191836Z
UID:10000538-1681552800-1681558200@painesvillenaz.org
SUMMARY:Food Pantry
DESCRIPTION:
URL:https://painesvillenaz.org/event/food-pantry-6/
ATTACH;FMTTYPE=image/jpeg:https://painesvillenaz.org/wp-content/uploads/2022/04/aaron-doucett-WZCf6aiK8Jo-unsplash-scaled.jpg
END:VEVENT
BEGIN:VEVENT
DTSTART;TZID=America/New_York:20230416T173000
DTEND;TZID=America/New_York:20230416T200000
DTSTAMP:20260423T015851
CREATED:20230404T192059Z
LAST-MODIFIED:20230404T192059Z
UID:10000539-1681666200-1681675200@painesvillenaz.org
SUMMARY:Catalyst
DESCRIPTION:6th Grade-12th Grade
URL:https://painesvillenaz.org/event/catalyst-5/
END:VEVENT
BEGIN:VEVENT
DTSTART;TZID=America/New_York:20230418T183000
DTEND;TZID=America/New_York:20230418T193000
DTSTAMP:20260423T015851
CREATED:20230404T192149Z
LAST-MODIFIED:20230404T192149Z
UID:10000540-1681842600-1681846200@painesvillenaz.org
SUMMARY:Women's Bible Study
DESCRIPTION:
URL:https://painesvillenaz.org/event/womens-bible-study-6/
ATTACH;FMTTYPE=image/png:https://painesvillenaz.org/wp-content/uploads/2023/04/Brave-Beloved.png
END:VEVENT
BEGIN:VEVENT
DTSTART;TZID=America/New_York:20230419T190000
DTEND;TZID=America/New_York:20230419T200000
DTSTAMP:20260423T015851
CREATED:20230404T192248Z
LAST-MODIFIED:20230404T192248Z
UID:10000915-1681930800-1681934400@painesvillenaz.org
SUMMARY:Prayer Meeting
DESCRIPTION:
URL:https://painesvillenaz.org/event/prayer-meeting-7/
ATTACH;FMTTYPE=image/jpeg:https://painesvillenaz.org/wp-content/uploads/2019/06/aaron-burden-58729-unsplash.jpg
END:VEVENT
BEGIN:VEVENT
DTSTART;TZID=America/New_York:20230422T100000
DTEND;TZID=America/New_York:20230422T113000
DTSTAMP:20260423T015851
CREATED:20230404T192325Z
LAST-MODIFIED:20230404T192325Z
UID:10000917-1682157600-1682163000@painesvillenaz.org
SUMMARY:Food Pantry
DESCRIPTION:
URL:https://painesvillenaz.org/event/food-pantry-7/
ATTACH;FMTTYPE=image/jpeg:https://painesvillenaz.org/wp-content/uploads/2022/04/aaron-doucett-WZCf6aiK8Jo-unsplash-scaled.jpg
END:VEVENT
BEGIN:VEVENT
DTSTART;TZID=America/New_York:20230423T173000
DTEND;TZID=America/New_York:20230423T200000
DTSTAMP:20260423T015851
CREATED:20230404T192421Z
LAST-MODIFIED:20230404T192421Z
UID:10000916-1682271000-1682280000@painesvillenaz.org
SUMMARY:Catalyst
DESCRIPTION:6th Grade-12th Grade
URL:https://painesvillenaz.org/event/catalyst-6/
END:VEVENT
BEGIN:VEVENT
DTSTART;TZID=America/New_York:20230425T183000
DTEND;TZID=America/New_York:20230425T193000
DTSTAMP:20260423T015851
CREATED:20230404T192459Z
LAST-MODIFIED:20230404T192459Z
UID:10000918-1682447400-1682451000@painesvillenaz.org
SUMMARY:Women's Bible Study
DESCRIPTION:
URL:https://painesvillenaz.org/event/womens-bible-study-7/
ATTACH;FMTTYPE=image/png:https://painesvillenaz.org/wp-content/uploads/2023/04/Brave-Beloved.png
END:VEVENT
BEGIN:VEVENT
DTSTART;TZID=America/New_York:20230426T190000
DTEND;TZID=America/New_York:20230426T200000
DTSTAMP:20260423T015851
CREATED:20230404T192559Z
LAST-MODIFIED:20230404T192559Z
UID:10000919-1682535600-1682539200@painesvillenaz.org
SUMMARY:Prayer Meeting
DESCRIPTION:
URL:https://painesvillenaz.org/event/prayer-meeting-8/
ATTACH;FMTTYPE=image/jpeg:https://painesvillenaz.org/wp-content/uploads/2019/06/aaron-burden-58729-unsplash.jpg
END:VEVENT
BEGIN:VEVENT
DTSTART;TZID=America/New_York:20230429T100000
DTEND;TZID=America/New_York:20230429T113000
DTSTAMP:20260423T015851
CREATED:20230404T192646Z
LAST-MODIFIED:20230404T192646Z
UID:10000920-1682762400-1682767800@painesvillenaz.org
SUMMARY:Food Pantry
DESCRIPTION:
URL:https://painesvillenaz.org/event/food-pantry-8/
ATTACH;FMTTYPE=image/jpeg:https://painesvillenaz.org/wp-content/uploads/2022/04/aaron-doucett-WZCf6aiK8Jo-unsplash-scaled.jpg
END:VEVENT
BEGIN:VEVENT
DTSTART;TZID=America/New_York:20230430T173000
DTEND;TZID=America/New_York:20230430T200000
DTSTAMP:20260423T015851
CREATED:20230404T192724Z
LAST-MODIFIED:20230404T192724Z
UID:10000921-1682875800-1682884800@painesvillenaz.org
SUMMARY:Catalyst
DESCRIPTION:6th Grade-12th Grade
URL:https://painesvillenaz.org/event/catalyst-7/
END:VEVENT
END:VCALENDAR