BEGIN:VCALENDAR
VERSION:2.0
PRODID:-//Painesville Church of the Nazarene - ECPv6.11.0.1//NONSGML v1.0//EN
CALSCALE:GREGORIAN
METHOD:PUBLISH
X-ORIGINAL-URL:https://painesvillenaz.org
X-WR-CALDESC:Events for Painesville Church of the Nazarene
REFRESH-INTERVAL;VALUE=DURATION:PT1H
X-Robots-Tag:noindex
X-PUBLISHED-TTL:PT1H
BEGIN:VTIMEZONE
TZID:America/New_York
BEGIN:DAYLIGHT
TZOFFSETFROM:-0500
TZOFFSETTO:-0400
TZNAME:EDT
DTSTART:20220313T070000
END:DAYLIGHT
BEGIN:STANDARD
TZOFFSETFROM:-0400
TZOFFSETTO:-0500
TZNAME:EST
DTSTART:20221106T060000
END:STANDARD
END:VTIMEZONE
BEGIN:VEVENT
DTSTART;TZID=America/New_York:20221106T104500
DTEND;TZID=America/New_York:20221106T120000
DTSTAMP:20260424T063715
CREATED:20190531T203452Z
LAST-MODIFIED:20220414T160041Z
UID:10000812-1667731500-1667736000@painesvillenaz.org
SUMMARY:Worship Service
DESCRIPTION:
URL:https://painesvillenaz.org/event/worship-service/2022-11-06/
LOCATION:PCN-Worship Center\, 6235 Chestnut Street\, Painesville\, 44077\, United States
CATEGORIES:Worshp
ATTACH;FMTTYPE=image/jpeg:https://painesvillenaz.org/wp-content/uploads/2019/05/carolina-jacomin-615796-unsplash.jpg
END:VEVENT
BEGIN:VEVENT
DTSTART;TZID=America/New_York:20221113T104500
DTEND;TZID=America/New_York:20221113T120000
DTSTAMP:20260424T063715
CREATED:20190531T203452Z
LAST-MODIFIED:20220414T160041Z
UID:10000813-1668336300-1668340800@painesvillenaz.org
SUMMARY:Worship Service
DESCRIPTION:
URL:https://painesvillenaz.org/event/worship-service/2022-11-13/
LOCATION:PCN-Worship Center\, 6235 Chestnut Street\, Painesville\, 44077\, United States
CATEGORIES:Worshp
ATTACH;FMTTYPE=image/jpeg:https://painesvillenaz.org/wp-content/uploads/2019/05/carolina-jacomin-615796-unsplash.jpg
END:VEVENT
BEGIN:VEVENT
DTSTART;TZID=America/New_York:20221120T104500
DTEND;TZID=America/New_York:20221120T120000
DTSTAMP:20260424T063716
CREATED:20190531T203452Z
LAST-MODIFIED:20220414T160041Z
UID:10000814-1668941100-1668945600@painesvillenaz.org
SUMMARY:Worship Service
DESCRIPTION:
URL:https://painesvillenaz.org/event/worship-service/2022-11-20/
LOCATION:PCN-Worship Center\, 6235 Chestnut Street\, Painesville\, 44077\, United States
CATEGORIES:Worshp
ATTACH;FMTTYPE=image/jpeg:https://painesvillenaz.org/wp-content/uploads/2019/05/carolina-jacomin-615796-unsplash.jpg
END:VEVENT
BEGIN:VEVENT
DTSTART;TZID=America/New_York:20221127T104500
DTEND;TZID=America/New_York:20221127T120000
DTSTAMP:20260424T063716
CREATED:20190531T203452Z
LAST-MODIFIED:20220414T160041Z
UID:10000815-1669545900-1669550400@painesvillenaz.org
SUMMARY:Worship Service
DESCRIPTION:
URL:https://painesvillenaz.org/event/worship-service/2022-11-27/
LOCATION:PCN-Worship Center\, 6235 Chestnut Street\, Painesville\, 44077\, United States
CATEGORIES:Worshp
ATTACH;FMTTYPE=image/jpeg:https://painesvillenaz.org/wp-content/uploads/2019/05/carolina-jacomin-615796-unsplash.jpg
END:VEVENT
END:VCALENDAR