BEGIN:VCALENDAR
VERSION:2.0
PRODID:-//Painesville Church of the Nazarene - ECPv6.11.0.1//NONSGML v1.0//EN
CALSCALE:GREGORIAN
METHOD:PUBLISH
X-ORIGINAL-URL:https://painesvillenaz.org
X-WR-CALDESC:Events for Painesville Church of the Nazarene
REFRESH-INTERVAL;VALUE=DURATION:PT1H
X-Robots-Tag:noindex
X-PUBLISHED-TTL:PT1H
BEGIN:VTIMEZONE
TZID:America/New_York
BEGIN:DAYLIGHT
TZOFFSETFROM:-0500
TZOFFSETTO:-0400
TZNAME:EDT
DTSTART:20230312T070000
END:DAYLIGHT
BEGIN:STANDARD
TZOFFSETFROM:-0400
TZOFFSETTO:-0500
TZNAME:EST
DTSTART:20231105T060000
END:STANDARD
END:VTIMEZONE
BEGIN:VEVENT
DTSTART;TZID=America/New_York:20230820T104500
DTEND;TZID=America/New_York:20230820T120000
DTSTAMP:20260422T184331
CREATED:20230809T150814Z
LAST-MODIFIED:20230809T150814Z
UID:10000563-1692528300-1692532800@painesvillenaz.org
SUMMARY:Worship Service
DESCRIPTION:
URL:https://painesvillenaz.org/event/worship-service-11/
ATTACH;FMTTYPE=image/jpeg:https://painesvillenaz.org/wp-content/uploads/2018/04/katie-moum-7XGtYefMXiQ-unsplash.jpg
END:VEVENT
BEGIN:VEVENT
DTSTART;TZID=America/New_York:20230820T173000
DTEND;TZID=America/New_York:20230820T200000
DTSTAMP:20260422T184331
CREATED:20230809T155150Z
LAST-MODIFIED:20230809T155150Z
UID:10000564-1692552600-1692561600@painesvillenaz.org
SUMMARY:Catalyst
DESCRIPTION:
URL:https://painesvillenaz.org/event/catalyst-8/
END:VEVENT
END:VCALENDAR