BEGIN:VCALENDAR
VERSION:2.0
PRODID:-//Painesville Church of the Nazarene - ECPv6.11.0.1//NONSGML v1.0//EN
CALSCALE:GREGORIAN
METHOD:PUBLISH
X-WR-CALNAME:Painesville Church of the Nazarene
X-ORIGINAL-URL:https://painesvillenaz.org
X-WR-CALDESC:Events for Painesville Church of the Nazarene
REFRESH-INTERVAL;VALUE=DURATION:PT1H
X-Robots-Tag:noindex
X-PUBLISHED-TTL:PT1H
BEGIN:VTIMEZONE
TZID:America/New_York
BEGIN:DAYLIGHT
TZOFFSETFROM:-0500
TZOFFSETTO:-0400
TZNAME:EDT
DTSTART:20230312T070000
END:DAYLIGHT
BEGIN:STANDARD
TZOFFSETFROM:-0400
TZOFFSETTO:-0500
TZNAME:EST
DTSTART:20231105T060000
END:STANDARD
END:VTIMEZONE
BEGIN:VEVENT
DTSTART;TZID=America/New_York:20230325T083000
DTEND;TZID=America/New_York:20230325T103000
DTSTAMP:20260423T174428
CREATED:20230228T181107Z
LAST-MODIFIED:20230314T152044Z
UID:10000912-1679733000-1679740200@painesvillenaz.org
SUMMARY:Women's Breakfast
DESCRIPTION:
URL:https://painesvillenaz.org/event/womens-breakfast/
LOCATION:Mary’s Diner\, 7649 Crile\, Concord\, OH\, 44077\, United States
ATTACH;FMTTYPE=image/jpeg:https://painesvillenaz.org/wp-content/uploads/2022/04/luke-pennystan-09FcOqmi8R0-unsplash-scaled.jpg
END:VEVENT
BEGIN:VEVENT
DTSTART;TZID=America/New_York:20230325T100000
DTEND;TZID=America/New_York:20230325T113000
DTSTAMP:20260423T174428
CREATED:20230228T180922Z
LAST-MODIFIED:20230228T180922Z
UID:10000911-1679738400-1679743800@painesvillenaz.org
SUMMARY:Food Pantry
DESCRIPTION:
URL:https://painesvillenaz.org/event/food-pantry-4/
LOCATION:Painesville Church of the Nazarene\, 6235 Chestnut St.\, Painesville\, OH\, 44077\, United States
ATTACH;FMTTYPE=image/jpeg:https://painesvillenaz.org/wp-content/uploads/2022/04/aaron-doucett-WZCf6aiK8Jo-unsplash-scaled.jpg
END:VEVENT
END:VCALENDAR