BEGIN:VCALENDAR
VERSION:2.0
PRODID:-//Painesville Church of the Nazarene - ECPv6.11.0.1//NONSGML v1.0//EN
CALSCALE:GREGORIAN
METHOD:PUBLISH
X-ORIGINAL-URL:https://painesvillenaz.org
X-WR-CALDESC:Events for Painesville Church of the Nazarene
REFRESH-INTERVAL;VALUE=DURATION:PT1H
X-Robots-Tag:noindex
X-PUBLISHED-TTL:PT1H
BEGIN:VTIMEZONE
TZID:America/New_York
BEGIN:DAYLIGHT
TZOFFSETFROM:-0500
TZOFFSETTO:-0400
TZNAME:EDT
DTSTART:20230312T070000
END:DAYLIGHT
BEGIN:STANDARD
TZOFFSETFROM:-0400
TZOFFSETTO:-0500
TZNAME:EST
DTSTART:20231105T060000
END:STANDARD
END:VTIMEZONE
BEGIN:VEVENT
DTSTART;TZID=America/New_York:20230321T183000
DTEND;TZID=America/New_York:20230321T193000
DTSTAMP:20260423T192308
CREATED:20230228T180640Z
LAST-MODIFIED:20230228T180640Z
UID:10000909-1679423400-1679427000@painesvillenaz.org
SUMMARY:Women's Bible Study
DESCRIPTION:Brave & Beloved by Meredith Storrs
URL:https://painesvillenaz.org/event/womens-bible-study-3/
LOCATION:Painesville Church of the Nazarene\, 6235 Chestnut St.\, Painesville\, OH\, 44077\, United States
END:VEVENT
END:VCALENDAR