BEGIN:VCALENDAR
VERSION:2.0
PRODID:-//Painesville Church of the Nazarene - ECPv6.11.0.1//NONSGML v1.0//EN
CALSCALE:GREGORIAN
METHOD:PUBLISH
X-ORIGINAL-URL:https://painesvillenaz.org
X-WR-CALDESC:Events for Painesville Church of the Nazarene
REFRESH-INTERVAL;VALUE=DURATION:PT1H
X-Robots-Tag:noindex
X-PUBLISHED-TTL:PT1H
BEGIN:VTIMEZONE
TZID:America/New_York
BEGIN:DAYLIGHT
TZOFFSETFROM:-0500
TZOFFSETTO:-0400
TZNAME:EDT
DTSTART:20230312T070000
END:DAYLIGHT
BEGIN:STANDARD
TZOFFSETFROM:-0400
TZOFFSETTO:-0500
TZNAME:EST
DTSTART:20231105T060000
END:STANDARD
END:VTIMEZONE
BEGIN:VEVENT
DTSTART;TZID=America/New_York:20230308T190000
DTEND;TZID=America/New_York:20230308T200000
DTSTAMP:20260423T174448
CREATED:20230228T173104Z
LAST-MODIFIED:20230228T173104Z
UID:10000902-1678302000-1678305600@painesvillenaz.org
SUMMARY:Prayer Meeting
DESCRIPTION:
URL:https://painesvillenaz.org/event/prayer-meeting-3/
LOCATION:Painesville Church of the Nazarene\, 6235 Chestnut St.\, Painesville\, OH\, 44077\, United States
ATTACH;FMTTYPE=image/jpeg:https://painesvillenaz.org/wp-content/uploads/2019/06/patrick-fore-26857-unsplash.jpg
END:VEVENT
END:VCALENDAR