BEGIN:VCALENDAR
VERSION:2.0
PRODID:-//Painesville Church of the Nazarene - ECPv6.11.0.1//NONSGML v1.0//EN
CALSCALE:GREGORIAN
METHOD:PUBLISH
X-ORIGINAL-URL:https://painesvillenaz.org
X-WR-CALDESC:Events for Painesville Church of the Nazarene
REFRESH-INTERVAL;VALUE=DURATION:PT1H
X-Robots-Tag:noindex
X-PUBLISHED-TTL:PT1H
BEGIN:VTIMEZONE
TZID:America/New_York
BEGIN:DAYLIGHT
TZOFFSETFROM:-0500
TZOFFSETTO:-0400
TZNAME:EDT
DTSTART:20220313T070000
END:DAYLIGHT
BEGIN:STANDARD
TZOFFSETFROM:-0400
TZOFFSETTO:-0500
TZNAME:EST
DTSTART:20221106T060000
END:STANDARD
END:VTIMEZONE
BEGIN:VEVENT
DTSTART;TZID=America/New_York:20221217T100000
DTEND;TZID=America/New_York:20221217T113000
DTSTAMP:20260424T044631
CREATED:20221206T182045Z
LAST-MODIFIED:20221206T182045Z
UID:10000894-1671271200-1671276600@painesvillenaz.org
SUMMARY:Food Pantry Open
DESCRIPTION:
URL:https://painesvillenaz.org/event/food-pantry-open-4/
LOCATION:PCN- Room 108\, 6235 Chestnut Street\, Painesville\, 44077\, United States
ATTACH;FMTTYPE=image/jpeg:https://painesvillenaz.org/wp-content/uploads/2022/04/aaron-doucett-WZCf6aiK8Jo-unsplash-scaled.jpg
END:VEVENT
BEGIN:VEVENT
DTSTART;TZID=America/New_York:20221217T190000
DTEND;TZID=America/New_York:20221217T200000
DTSTAMP:20260424T044631
CREATED:20221206T180649Z
LAST-MODIFIED:20221206T180649Z
UID:10000891-1671303600-1671307200@painesvillenaz.org
SUMMARY:Live Nativity
DESCRIPTION:
URL:https://painesvillenaz.org/event/live-nativity-2/
LOCATION:Painesville Church of the Nazarene\, 6235 Chestnut St.\, Painesville\, OH\, 44077\, United States
ATTACH;FMTTYPE=image/jpeg:https://painesvillenaz.org/wp-content/uploads/2020/12/nativity-scene-manger-christmas-desert.jpg
END:VEVENT
END:VCALENDAR