BEGIN:VCALENDAR
VERSION:2.0
PRODID:-//Painesville Church of the Nazarene - ECPv6.11.0.1//NONSGML v1.0//EN
CALSCALE:GREGORIAN
METHOD:PUBLISH
X-WR-CALNAME:Painesville Church of the Nazarene
X-ORIGINAL-URL:https://painesvillenaz.org
X-WR-CALDESC:Events for Painesville Church of the Nazarene
REFRESH-INTERVAL;VALUE=DURATION:PT1H
X-Robots-Tag:noindex
X-PUBLISHED-TTL:PT1H
BEGIN:VTIMEZONE
TZID:America/New_York
BEGIN:DAYLIGHT
TZOFFSETFROM:-0500
TZOFFSETTO:-0400
TZNAME:EDT
DTSTART:20220313T070000
END:DAYLIGHT
BEGIN:STANDARD
TZOFFSETFROM:-0400
TZOFFSETTO:-0500
TZNAME:EST
DTSTART:20221106T060000
END:STANDARD
END:VTIMEZONE
BEGIN:VEVENT
DTSTART;TZID=America/New_York:20220528T100000
DTEND;TZID=America/New_York:20220528T113000
DTSTAMP:20260425T090911
CREATED:20220414T154821Z
LAST-MODIFIED:20220414T155819Z
UID:10000865-1653732000-1653737400@painesvillenaz.org
SUMMARY:Food Pantry Open
DESCRIPTION:
URL:https://painesvillenaz.org/event/food-pantry-open-2/2022-05-28/
LOCATION:PCN-gymnasium\, 6235 Chestnut Street\, Painesville\, 44077\, United States
ATTACH;FMTTYPE=image/jpeg:https://painesvillenaz.org/wp-content/uploads/2022/04/aaron-doucett-WZCf6aiK8Jo-unsplash-scaled.jpg
END:VEVENT
END:VCALENDAR